BEGIN:VCALENDAR
VERSION:2.0
PRODID:-//horsealert.local//NONSGML kigkonsult.se iCalcreator 2.10.5//
CALSCALE:GREGORIAN
X-WR-TIMEZONE:Europe/Dublin
BEGIN:VTIMEZONE
TZID:Etc/GMT-1
BEGIN:STANDARD
DTSTART:20010101T000000
TZOFFSETFROM:+0100
TZOFFSETTO:+0100
TZNAME:GMT +01:00
END:STANDARD
END:VTIMEZONE
BEGIN:VEVENT
UID:20260424T180206CEST-3618FkFOJp@horsealert.local
DTSTAMP:20260424T160406Z
CATEGORIES:Horse Alerts
DESCRIPTION:Betdaq Free 25 Bet No Lose Handicap
DTSTART:20140327T183500
LOCATION:England
SUMMARY:Horse Racing:Betdaq Free 25 Bet No Lose Handicap
END:VEVENT
END:VCALENDAR
