BEGIN:VCALENDAR
VERSION:2.0
PRODID:-//horsealert.local//NONSGML kigkonsult.se iCalcreator 2.10.5//
CALSCALE:GREGORIAN
X-WR-TIMEZONE:Europe/Dublin
BEGIN:VTIMEZONE
TZID:Etc/GMT-1
BEGIN:STANDARD
DTSTART:20010101T000000
TZOFFSETFROM:+0100
TZOFFSETTO:+0100
TZNAME:GMT +01:00
END:STANDARD
END:VTIMEZONE
BEGIN:VEVENT
UID:20260424T175910CEST-4050vo9WNB@horsealert.local
DTSTAMP:20260424T150410Z
CATEGORIES:Horse Alerts
DESCRIPTION:32Red Spring Cup \(Fast Track Qualifier\) \(Listed\)
DTSTART:20140322T151500
LOCATION:England
SUMMARY:Horse Racing:32Red Spring Cup \(Fast Track Qualifier\) \(Listed\)
END:VEVENT
END:VCALENDAR
