BEGIN:VCALENDAR
VERSION:2.0
PRODID:-//horsealert.local//NONSGML kigkonsult.se iCalcreator 2.10.5//
CALSCALE:GREGORIAN
X-WR-TIMEZONE:Europe/Dublin
BEGIN:VTIMEZONE
TZID:Etc/GMT-1
BEGIN:STANDARD
DTSTART:20010101T000000
TZOFFSETFROM:+0100
TZOFFSETTO:+0100
TZNAME:GMT +01:00
END:STANDARD
END:VTIMEZONE
BEGIN:VEVENT
UID:20260424T180122CEST-7448z9ufM9@horsealert.local
DTSTAMP:20260424T160422Z
CATEGORIES:Horse Alerts
DESCRIPTION:bookmakers.co.uk Hever Sprint Stakes \(Fast Track Qualifier\) \
 (Listed\)
DTSTART:20140322T144000
LOCATION:England
SUMMARY:Horse Racing:bookmakers.co.uk Hever Sprint Stakes \(Fast Track Qual
 ifier\) \(Listed\)
END:VEVENT
END:VCALENDAR
