BEGIN:VCALENDAR
VERSION:2.0
PRODID:-//horsealert.local//NONSGML kigkonsult.se iCalcreator 2.10.5//
CALSCALE:GREGORIAN
X-WR-TIMEZONE:Europe/Dublin
BEGIN:VTIMEZONE
TZID:Etc/GMT-1
BEGIN:STANDARD
DTSTART:20010101T000000
TZOFFSETFROM:+0100
TZOFFSETTO:+0100
TZNAME:GMT +01:00
END:STANDARD
END:VTIMEZONE
BEGIN:VEVENT
UID:20260424T180225CEST-2680v5WHAE@horsealert.local
DTSTAMP:20260424T160425Z
CATEGORIES:Horse Alerts
DESCRIPTION:Betfred TV Conditional Jockeys\' Training Series Handicap Hurdl
 e
DTSTART:20140321T135000
LOCATION:England
SUMMARY:Horse Racing:Betfred TV Conditional Jockeys\' Training Series Handi
 cap Hurdle
END:VEVENT
END:VCALENDAR
