BEGIN:VCALENDAR
VERSION:2.0
PRODID:-//horsealert.local//NONSGML kigkonsult.se iCalcreator 2.10.5//
CALSCALE:GREGORIAN
X-WR-TIMEZONE:Europe/Dublin
BEGIN:VTIMEZONE
TZID:Etc/GMT-1
BEGIN:STANDARD
DTSTART:20010101T000000
TZOFFSETFROM:+0100
TZOFFSETTO:+0100
TZNAME:GMT +01:00
END:STANDARD
END:VTIMEZONE
BEGIN:VEVENT
UID:20260424T180402CEST-4649SvxuzE@horsealert.local
DTSTAMP:20260424T160402Z
CATEGORIES:Horse Alerts
DESCRIPTION:Goffs London Sale - Kempton-Breeze/Kensington-Sale Median Aucti
 on Maiden Stakes
DTSTART:20140319T191000
LOCATION:England
SUMMARY:Horse Racing:Goffs London Sale - Kempton-Breeze/Kensington-Sale Med
 ian Auction Maiden Stakes
END:VEVENT
END:VCALENDAR
