BEGIN:VCALENDAR
VERSION:2.0
PRODID:-//horsealert.local//NONSGML kigkonsult.se iCalcreator 2.10.5//
CALSCALE:GREGORIAN
X-WR-TIMEZONE:Europe/Dublin
BEGIN:VTIMEZONE
TZID:Etc/GMT-1
BEGIN:STANDARD
DTSTART:20010101T000000
TZOFFSETFROM:+0100
TZOFFSETTO:+0100
TZNAME:GMT +01:00
END:STANDARD
END:VTIMEZONE
BEGIN:VEVENT
UID:20260424T180412CEST-8964NLA2UG@horsealert.local
DTSTAMP:20260424T160412Z
CATEGORIES:Horse Alerts
DESCRIPTION:Family Fun At Kempton Park 19.04.14 Maiden Open NH Flat Race
DTSTART:20140315T175000
LOCATION:England
SUMMARY:Horse Racing:Family Fun At Kempton Park 19.04.14 Maiden Open NH Fla
 t Race
END:VEVENT
END:VCALENDAR
