BEGIN:VCALENDAR
VERSION:2.0
PRODID:-//horsealert.local//NONSGML kigkonsult.se iCalcreator 2.10.5//
CALSCALE:GREGORIAN
X-WR-TIMEZONE:Europe/Dublin
BEGIN:VTIMEZONE
TZID:Etc/GMT-1
BEGIN:STANDARD
DTSTART:20010101T000000
TZOFFSETFROM:+0100
TZOFFSETTO:+0100
TZNAME:GMT +01:00
END:STANDARD
END:VTIMEZONE
BEGIN:VEVENT
UID:20260424T180202CEST-1759IzImUv@horsealert.local
DTSTAMP:20260424T160402Z
CATEGORIES:Horse Alerts
DESCRIPTION:Irish Stallion Farms E.B.F. Novice Handicap Chase Final \(Grade
  C\)
DTSTART:20140316T163500
LOCATION:Eire
SUMMARY:Horse Racing:Irish Stallion Farms E.B.F. Novice Handicap Chase Fina
 l \(Grade C\)
END:VEVENT
END:VCALENDAR
