BEGIN:VCALENDAR
VERSION:2.0
PRODID:-//horsealert.local//NONSGML kigkonsult.se iCalcreator 2.10.5//
CALSCALE:GREGORIAN
X-WR-TIMEZONE:Europe/Dublin
BEGIN:VTIMEZONE
TZID:Etc/GMT-1
BEGIN:STANDARD
DTSTART:20010101T000000
TZOFFSETFROM:+0100
TZOFFSETTO:+0100
TZNAME:GMT +01:00
END:STANDARD
END:VTIMEZONE
BEGIN:VEVENT
UID:20260424T174050CEST-4216v6kmg2@horsealert.local
DTSTAMP:20260424T150450Z
CATEGORIES:Horse Alerts
DESCRIPTION:William Hill Mobile Bet Anywhere Novices\' Chase \(For The Burn
 t Oak And Special Cargo Challenge Trophy\)
DTSTART:20140308T162500
LOCATION:England
SUMMARY:Horse Racing:William Hill Mobile Bet Anywhere Novices\' Chase \(For
  The Burnt Oak And Special Cargo Challenge Trophy\)
END:VEVENT
END:VCALENDAR
