BEGIN:VCALENDAR
VERSION:2.0
PRODID:-//horsealert.local//NONSGML kigkonsult.se iCalcreator 2.10.5//
CALSCALE:GREGORIAN
X-WR-TIMEZONE:Europe/Dublin
BEGIN:VTIMEZONE
TZID:Etc/GMT-1
BEGIN:STANDARD
DTSTART:20010101T000000
TZOFFSETFROM:+0100
TZOFFSETTO:+0100
TZNAME:GMT +01:00
END:STANDARD
END:VTIMEZONE
BEGIN:VEVENT
UID:20260424T174024CEST-29121G2Po6@horsealert.local
DTSTAMP:20260424T150424Z
CATEGORIES:Horse Alerts
DESCRIPTION:Lowmans Ye Olde Hog Roast Handicap Chase \(Jockey Club Grassroo
 ts Jumps Series Qualifier\)
DTSTART:20140309T154000
LOCATION:England
SUMMARY:Horse Racing:Lowmans Ye Olde Hog Roast Handicap Chase \(Jockey Club
  Grassroots Jumps Series Qualifier\)
END:VEVENT
END:VCALENDAR
