BEGIN:VCALENDAR
VERSION:2.0
PRODID:-//horsealert.local//NONSGML kigkonsult.se iCalcreator 2.10.5//
CALSCALE:GREGORIAN
X-WR-TIMEZONE:Europe/Dublin
BEGIN:VTIMEZONE
TZID:Etc/GMT-1
BEGIN:STANDARD
DTSTART:20010101T000000
TZOFFSETFROM:+0100
TZOFFSETTO:+0100
TZNAME:GMT +01:00
END:STANDARD
END:VTIMEZONE
BEGIN:VEVENT
UID:20260424T174021CEST-1944nPVtM3@horsealert.local
DTSTAMP:20260424T150421Z
CATEGORIES:Horse Alerts
DESCRIPTION:Michael Rice And The Kilkenny City & County Vintners Maiden Hur
 dle
DTSTART:20140308T142500
LOCATION:Eire
SUMMARY:Horse Racing:Michael Rice And The Kilkenny City & County Vintners M
 aiden Hurdle
END:VEVENT
END:VCALENDAR
