BEGIN:VCALENDAR
VERSION:2.0
PRODID:-//horsealert.local//NONSGML kigkonsult.se iCalcreator 2.10.5//
CALSCALE:GREGORIAN
X-WR-TIMEZONE:Europe/Dublin
BEGIN:VTIMEZONE
TZID:Etc/GMT-1
BEGIN:STANDARD
DTSTART:20010101T000000
TZOFFSETFROM:+0100
TZOFFSETTO:+0100
TZNAME:GMT +01:00
END:STANDARD
END:VTIMEZONE
BEGIN:VEVENT
UID:20260424T174048CEST-5906rkcujV@horsealert.local
DTSTAMP:20260424T150448Z
CATEGORIES:Horse Alerts
DESCRIPTION:Back Of The Net At BetVictor.com Conditional Jockeys\' Handicap
  Chase
DTSTART:20140308T173500
LOCATION:Wales
SUMMARY:Horse Racing:Back Of The Net At BetVictor.com Conditional Jockeys\'
  Handicap Chase
END:VEVENT
END:VCALENDAR
