BEGIN:VCALENDAR
VERSION:2.0
PRODID:-//horsealert.local//NONSGML kigkonsult.se iCalcreator 2.10.5//
CALSCALE:GREGORIAN
X-WR-TIMEZONE:Europe/Dublin
BEGIN:VTIMEZONE
TZID:Etc/GMT-1
BEGIN:STANDARD
DTSTART:20010101T000000
TZOFFSETFROM:+0100
TZOFFSETTO:+0100
TZNAME:GMT +01:00
END:STANDARD
END:VTIMEZONE
BEGIN:VEVENT
UID:20260424T174023CEST-7572tZ4RV5@horsealert.local
DTSTAMP:20260424T150423Z
CATEGORIES:Horse Alerts
DESCRIPTION:Download The BetVictor App Now Novices\' Handicap Hurdle
DTSTART:20140308T152000
LOCATION:Wales
SUMMARY:Horse Racing:Download The BetVictor App Now Novices\' Handicap Hurd
 le
END:VEVENT
END:VCALENDAR
