BEGIN:VCALENDAR
VERSION:2.0
PRODID:-//horsealert.local//NONSGML kigkonsult.se iCalcreator 2.10.5//
CALSCALE:GREGORIAN
X-WR-TIMEZONE:Europe/Dublin
BEGIN:VTIMEZONE
TZID:Etc/GMT-1
BEGIN:STANDARD
DTSTART:20010101T000000
TZOFFSETFROM:+0100
TZOFFSETTO:+0100
TZNAME:GMT +01:00
END:STANDARD
END:VTIMEZONE
BEGIN:VEVENT
UID:20260424T173249CEST-2045LL0zvm@horsealert.local
DTSTAMP:20260424T150449Z
CATEGORIES:Horse Alerts
DESCRIPTION:Grand Military Gold Cup \(Military Amateur Riders\' Chase\) \(S
 ponsored By The Military Mutual\)
DTSTART:20140307T150500
LOCATION:England
SUMMARY:Horse Racing:Grand Military Gold Cup \(Military Amateur Riders\' Ch
 ase\) \(Sponsored By The Military Mutual\)
END:VEVENT
END:VCALENDAR
