BEGIN:VCALENDAR
VERSION:2.0
PRODID:-//horsealert.local//NONSGML kigkonsult.se iCalcreator 2.10.5//
CALSCALE:GREGORIAN
X-WR-TIMEZONE:Europe/Dublin
BEGIN:VTIMEZONE
TZID:Etc/GMT-1
BEGIN:STANDARD
DTSTART:20010101T000000
TZOFFSETFROM:+0100
TZOFFSETTO:+0100
TZNAME:GMT +01:00
END:STANDARD
END:VTIMEZONE
BEGIN:VEVENT
UID:20260424T173247CEST-7427l6PFUd@horsealert.local
DTSTAMP:20260424T150447Z
CATEGORIES:Horse Alerts
DESCRIPTION:McCrystals XL Jenkinstown Maiden
DTSTART:20140307T194500
LOCATION:Eire
SUMMARY:Horse Racing:McCrystals XL Jenkinstown Maiden
END:VEVENT
END:VCALENDAR
