BEGIN:VCALENDAR
VERSION:2.0
PRODID:-//horsealert.local//NONSGML kigkonsult.se iCalcreator 2.10.5//
CALSCALE:GREGORIAN
X-WR-TIMEZONE:Europe/Dublin
BEGIN:VTIMEZONE
TZID:Etc/GMT-1
BEGIN:STANDARD
DTSTART:20010101T000000
TZOFFSETFROM:+0100
TZOFFSETTO:+0100
TZNAME:GMT +01:00
END:STANDARD
END:VTIMEZONE
BEGIN:VEVENT
UID:20260424T173246CEST-8318Uh6rFc@horsealert.local
DTSTAMP:20260424T150446Z
CATEGORIES:Horse Alerts
DESCRIPTION:Best Odds Guaranteed At totepool.com Handicap Hurdle \(For The 
 James Barclay Challenge Trophy\)
DTSTART:20140307T145000
LOCATION:Scotland
SUMMARY:Horse Racing:Best Odds Guaranteed At totepool.com Handicap Hurdle \
 (For The James Barclay Challenge Trophy\)
END:VEVENT
END:VCALENDAR
