BEGIN:VCALENDAR
VERSION:2.0
PRODID:-//horsealert.local//NONSGML kigkonsult.se iCalcreator 2.10.5//
CALSCALE:GREGORIAN
X-WR-TIMEZONE:Europe/Dublin
BEGIN:VTIMEZONE
TZID:Etc/GMT-1
BEGIN:STANDARD
DTSTART:20010101T000000
TZOFFSETFROM:+0100
TZOFFSETTO:+0100
TZNAME:GMT +01:00
END:STANDARD
END:VTIMEZONE
BEGIN:VEVENT
UID:20260424T174022CEST-2887tGkVao@horsealert.local
DTSTAMP:20260424T150422Z
CATEGORIES:Horse Alerts
DESCRIPTION:Coral App Download From The App Store Apprentice Handicap
DTSTART:20140306T142000
LOCATION:England
SUMMARY:Horse Racing:Coral App Download From The App Store Apprentice Handi
 cap
END:VEVENT
END:VCALENDAR
