BEGIN:VCALENDAR
VERSION:2.0
PRODID:-//horsealert.local//NONSGML kigkonsult.se iCalcreator 2.10.5//
CALSCALE:GREGORIAN
X-WR-TIMEZONE:Europe/Dublin
BEGIN:VTIMEZONE
TZID:Etc/GMT-1
BEGIN:STANDARD
DTSTART:20010101T000000
TZOFFSETFROM:+0100
TZOFFSETTO:+0100
TZNAME:GMT +01:00
END:STANDARD
END:VTIMEZONE
BEGIN:VEVENT
UID:20260424T174023CEST-3853Wv8uw5@horsealert.local
DTSTAMP:20260424T150423Z
CATEGORIES:Horse Alerts
DESCRIPTION:Mix Business With Pleasure At Kempton Handicap
DTSTART:20140306T175500
LOCATION:England
SUMMARY:Horse Racing:Mix Business With Pleasure At Kempton Handicap
END:VEVENT
END:VCALENDAR
