BEGIN:VCALENDAR
VERSION:2.0
PRODID:-//horsealert.local//NONSGML kigkonsult.se iCalcreator 2.10.5//
CALSCALE:GREGORIAN
X-WR-TIMEZONE:Europe/Dublin
BEGIN:VTIMEZONE
TZID:Etc/GMT-1
BEGIN:STANDARD
DTSTART:20010101T000000
TZOFFSETFROM:+0100
TZOFFSETTO:+0100
TZNAME:GMT +01:00
END:STANDARD
END:VTIMEZONE
BEGIN:VEVENT
UID:20260424T174050CEST-3340LcSm9b@horsealert.local
DTSTAMP:20260424T150450Z
CATEGORIES:Horse Alerts
DESCRIPTION:Flat Season Next Mares\' Standard NH Flat Race \(Conditional Jo
 ckeys and Amateur Riders\)
DTSTART:20140305T171500
LOCATION:England
SUMMARY:Horse Racing:Flat Season Next Mares\' Standard NH Flat Race \(Condi
 tional Jockeys and Amateur Riders\)
END:VEVENT
END:VCALENDAR
