BEGIN:VCALENDAR
VERSION:2.0
PRODID:-//horsealert.local//NONSGML kigkonsult.se iCalcreator 2.10.5//
CALSCALE:GREGORIAN
X-WR-TIMEZONE:Europe/Dublin
BEGIN:VTIMEZONE
TZID:Etc/GMT-1
BEGIN:STANDARD
DTSTART:20010101T000000
TZOFFSETFROM:+0100
TZOFFSETTO:+0100
TZNAME:GMT +01:00
END:STANDARD
END:VTIMEZONE
BEGIN:VEVENT
UID:20260424T173251CEST-0345tG0ab1@horsealert.local
DTSTAMP:20260424T150451Z
CATEGORIES:Horse Alerts
DESCRIPTION:Too \'Close\' To Call \'Newcomers\' Standard Open NH Flat Race
DTSTART:20140304T172000
LOCATION:England
SUMMARY:Horse Racing:Too \'Close\' To Call \'Newcomers\' Standard Open NH F
 lat Race
END:VEVENT
END:VCALENDAR
