BEGIN:VCALENDAR
VERSION:2.0
PRODID:-//horsealert.local//NONSGML kigkonsult.se iCalcreator 2.10.5//
CALSCALE:GREGORIAN
X-WR-TIMEZONE:Europe/Dublin
BEGIN:VTIMEZONE
TZID:Etc/GMT-1
BEGIN:STANDARD
DTSTART:20010101T000000
TZOFFSETFROM:+0100
TZOFFSETTO:+0100
TZNAME:GMT +01:00
END:STANDARD
END:VTIMEZONE
BEGIN:VEVENT
UID:20260424T180205CEST-8266UkSBHP@horsealert.local
DTSTAMP:20260424T160405Z
CATEGORIES:Horse Alerts
DESCRIPTION:Best Odds Guaranteed At totepool.com Premier Chase \(Listed\)
DTSTART:20140301T161500
LOCATION:Scotland
SUMMARY:Horse Racing:Best Odds Guaranteed At totepool.com Premier Chase \(L
 isted\)
END:VEVENT
END:VCALENDAR
