BEGIN:VCALENDAR
VERSION:2.0
PRODID:-//horsealert.local//NONSGML kigkonsult.se iCalcreator 2.10.5//
CALSCALE:GREGORIAN
X-WR-TIMEZONE:Europe/Dublin
BEGIN:VTIMEZONE
TZID:Etc/GMT-1
BEGIN:STANDARD
DTSTART:20010101T000000
TZOFFSETFROM:+0100
TZOFFSETTO:+0100
TZNAME:GMT +01:00
END:STANDARD
END:VTIMEZONE
BEGIN:VEVENT
UID:20260424T175914CEST-8973F3odnu@horsealert.local
DTSTAMP:20260424T150414Z
CATEGORIES:Horse Alerts
DESCRIPTION:Cyril Alexander Memorial Novices\' Limited Handicap Chase
DTSTART:20140301T143000
LOCATION:Scotland
SUMMARY:Horse Racing:Cyril Alexander Memorial Novices\' Limited Handicap Ch
 ase
END:VEVENT
END:VCALENDAR
