BEGIN:VCALENDAR
VERSION:2.0
PRODID:-//horsealert.local//NONSGML kigkonsult.se iCalcreator 2.10.5//
CALSCALE:GREGORIAN
X-WR-TIMEZONE:Europe/Dublin
BEGIN:VTIMEZONE
TZID:Etc/GMT-1
BEGIN:STANDARD
DTSTART:20010101T000000
TZOFFSETFROM:+0100
TZOFFSETTO:+0100
TZNAME:GMT +01:00
END:STANDARD
END:VTIMEZONE
BEGIN:VEVENT
UID:20260424T180212CEST-9182lgg2nP@horsealert.local
DTSTAMP:20260424T160412Z
CATEGORIES:Horse Alerts
DESCRIPTION:Greatwood Novices\' Limited Handicap Chase \(For The Jacky Upto
 n Trophy\)
DTSTART:20140301T162500
LOCATION:England
SUMMARY:Horse Racing:Greatwood Novices\' Limited Handicap Chase \(For The J
 acky Upton Trophy\)
END:VEVENT
END:VCALENDAR
