BEGIN:VCALENDAR
VERSION:2.0
PRODID:-//horsealert.local//NONSGML kigkonsult.se iCalcreator 2.10.5//
CALSCALE:GREGORIAN
X-WR-TIMEZONE:Europe/Dublin
BEGIN:VTIMEZONE
TZID:Etc/GMT-1
BEGIN:STANDARD
DTSTART:20010101T000000
TZOFFSETFROM:+0100
TZOFFSETTO:+0100
TZNAME:GMT +01:00
END:STANDARD
END:VTIMEZONE
BEGIN:VEVENT
UID:20260424T210205CEST-3667oCnTOC@horsealert.local
DTSTAMP:20260424T190405Z
CATEGORIES:Horse Alerts
DESCRIPTION:Fredk Sage Co Ltd Handicap Chase \(In Aid Of West Berkshire Men
 cap\)
DTSTART:20140228T163500
LOCATION:England
SUMMARY:Horse Racing:Fredk Sage Co Ltd Handicap Chase \(In Aid Of West Berk
 shire Mencap\)
END:VEVENT
END:VCALENDAR
