BEGIN:VCALENDAR
VERSION:2.0
PRODID:-//horsealert.local//NONSGML kigkonsult.se iCalcreator 2.10.5//
CALSCALE:GREGORIAN
X-WR-TIMEZONE:Europe/Dublin
BEGIN:VTIMEZONE
TZID:Etc/GMT-1
BEGIN:STANDARD
DTSTART:20010101T000000
TZOFFSETFROM:+0100
TZOFFSETTO:+0100
TZNAME:GMT +01:00
END:STANDARD
END:VTIMEZONE
BEGIN:VEVENT
UID:20260424T194538CEST-4453zsz9UZ@horsealert.local
DTSTAMP:20260424T170438Z
CATEGORIES:Horse Alerts
DESCRIPTION:Hotels Unite For Tourism Race
DTSTART:20140228T194500
LOCATION:Eire
SUMMARY:Horse Racing:Hotels Unite For Tourism Race
END:VEVENT
END:VCALENDAR
