BEGIN:VCALENDAR
VERSION:2.0
PRODID:-//horsealert.local//NONSGML kigkonsult.se iCalcreator 2.10.5//
CALSCALE:GREGORIAN
X-WR-TIMEZONE:Europe/Dublin
BEGIN:VTIMEZONE
TZID:Etc/GMT-1
BEGIN:STANDARD
DTSTART:20010101T000000
TZOFFSETFROM:+0100
TZOFFSETTO:+0100
TZNAME:GMT +01:00
END:STANDARD
END:VTIMEZONE
BEGIN:VEVENT
UID:20260424T211710CEST-5402ETesE6@horsealert.local
DTSTAMP:20260424T190410Z
CATEGORIES:Horse Alerts
DESCRIPTION:CGA Foxhunter \(Hunters\' Chase\) \(For The Richard Williams Me
 morial Trophy\)
DTSTART:20140227T164000
LOCATION:England
SUMMARY:Horse Racing:CGA Foxhunter \(Hunters\' Chase\) \(For The Richard Wi
 lliams Memorial Trophy\)
END:VEVENT
END:VCALENDAR
