BEGIN:VCALENDAR
VERSION:2.0
PRODID:-//horsealert.local//NONSGML kigkonsult.se iCalcreator 2.10.5//
CALSCALE:GREGORIAN
X-WR-TIMEZONE:Europe/Dublin
BEGIN:VTIMEZONE
TZID:Etc/GMT-1
BEGIN:STANDARD
DTSTART:20010101T000000
TZOFFSETFROM:+0100
TZOFFSETTO:+0100
TZNAME:GMT +01:00
END:STANDARD
END:VTIMEZONE
BEGIN:VEVENT
UID:20260424T225631CEST-5815pLNGEz@horsealert.local
DTSTAMP:20260424T200431Z
CATEGORIES:Horse Alerts
DESCRIPTION:Follow BettingBaron At Corbett Sports Conditional Jockeys\' Han
 dicap Hurdle
DTSTART:20140227T170000
LOCATION:England
SUMMARY:Horse Racing:Follow BettingBaron At Corbett Sports Conditional Jock
 eys\' Handicap Hurdle
END:VEVENT
END:VCALENDAR
