BEGIN:VCALENDAR
VERSION:2.0
PRODID:-//horsealert.local//NONSGML kigkonsult.se iCalcreator 2.10.5//
CALSCALE:GREGORIAN
X-WR-TIMEZONE:Europe/Dublin
BEGIN:VTIMEZONE
TZID:Etc/GMT-1
BEGIN:STANDARD
DTSTART:20010101T000000
TZOFFSETFROM:+0100
TZOFFSETTO:+0100
TZNAME:GMT +01:00
END:STANDARD
END:VTIMEZONE
BEGIN:VEVENT
UID:20260424T225548CEST-9378D50ImG@horsealert.local
DTSTAMP:20260424T200448Z
CATEGORIES:Horse Alerts
DESCRIPTION:Goffs Breeze-Up Sale Royal Ascot Week Handicap
DTSTART:20140227T210000
LOCATION:England
SUMMARY:Horse Racing:Goffs Breeze-Up Sale Royal Ascot Week Handicap
END:VEVENT
END:VCALENDAR
