BEGIN:VCALENDAR
VERSION:2.0
PRODID:-//horsealert.local//NONSGML kigkonsult.se iCalcreator 2.10.5//
CALSCALE:GREGORIAN
X-WR-TIMEZONE:Europe/Dublin
BEGIN:VTIMEZONE
TZID:Etc/GMT-1
BEGIN:STANDARD
DTSTART:20010101T000000
TZOFFSETFROM:+0100
TZOFFSETTO:+0100
TZNAME:GMT +01:00
END:STANDARD
END:VTIMEZONE
BEGIN:VEVENT
UID:20260424T225718CEST-5898ucMfaH@horsealert.local
DTSTAMP:20260424T200418Z
CATEGORIES:Horse Alerts
DESCRIPTION:We Race Again On March 5th Maiden NH Flat Race \(Conditional Jo
 ckeys And Amateur Riders\)
DTSTART:20140225T172000
LOCATION:England
SUMMARY:Horse Racing:We Race Again On March 5th Maiden NH Flat Race \(Condi
 tional Jockeys And Amateur Riders\)
END:VEVENT
END:VCALENDAR
