BEGIN:VCALENDAR
VERSION:2.0
PRODID:-//horsealert.local//NONSGML kigkonsult.se iCalcreator 2.10.5//
CALSCALE:GREGORIAN
X-WR-TIMEZONE:Europe/Dublin
BEGIN:VTIMEZONE
TZID:Etc/GMT-1
BEGIN:STANDARD
DTSTART:20010101T000000
TZOFFSETFROM:+0100
TZOFFSETTO:+0100
TZNAME:GMT +01:00
END:STANDARD
END:VTIMEZONE
BEGIN:VEVENT
UID:20260424T211851CEST-7990O116ZI@horsealert.local
DTSTAMP:20260424T190451Z
CATEGORIES:Horse Alerts
DESCRIPTION:Henry Reilly Memorial Handicap Chase \(Betfair Scottish Chase S
 eries Qualifier\)
DTSTART:20140224T145000
LOCATION:Scotland
SUMMARY:Horse Racing:Henry Reilly Memorial Handicap Chase \(Betfair Scottis
 h Chase Series Qualifier\)
END:VEVENT
END:VCALENDAR
