BEGIN:VCALENDAR
VERSION:2.0
PRODID:-//horsealert.local//NONSGML kigkonsult.se iCalcreator 2.10.5//
CALSCALE:GREGORIAN
X-WR-TIMEZONE:Europe/Dublin
BEGIN:VTIMEZONE
TZID:Etc/GMT-1
BEGIN:STANDARD
DTSTART:20010101T000000
TZOFFSETFROM:+0100
TZOFFSETTO:+0100
TZNAME:GMT +01:00
END:STANDARD
END:VTIMEZONE
BEGIN:VEVENT
UID:20260424T225641CEST-3728n5uNuj@horsealert.local
DTSTAMP:20260424T200441Z
CATEGORIES:Horse Alerts
DESCRIPTION:Ubu Iii Hurdle
DTSTART:20140223T132000
LOCATION:France
SUMMARY:Horse Racing:Ubu Iii Hurdle
END:VEVENT
END:VCALENDAR
