BEGIN:VCALENDAR
VERSION:2.0
PRODID:-//horsealert.local//NONSGML kigkonsult.se iCalcreator 2.10.5//
CALSCALE:GREGORIAN
X-WR-TIMEZONE:Europe/Dublin
BEGIN:VTIMEZONE
TZID:Etc/GMT-1
BEGIN:STANDARD
DTSTART:20010101T000000
TZOFFSETFROM:+0100
TZOFFSETTO:+0100
TZNAME:GMT +01:00
END:STANDARD
END:VTIMEZONE
BEGIN:VEVENT
UID:20260424T225126CEST-46455OunXA@horsealert.local
DTSTAMP:20260424T200426Z
CATEGORIES:Horse Alerts
DESCRIPTION:Rifles Handicap Chase Supporting Care For Casualties \(For The 
 Bombay Hunt Cup\)
DTSTART:20140222T150500
LOCATION:Wales
SUMMARY:Horse Racing:Rifles Handicap Chase Supporting Care For Casualties \
 (For The Bombay Hunt Cup\)
END:VEVENT
END:VCALENDAR
