BEGIN:VCALENDAR
VERSION:2.0
PRODID:-//horsealert.local//NONSGML kigkonsult.se iCalcreator 2.10.5//
CALSCALE:GREGORIAN
X-WR-TIMEZONE:Europe/Dublin
BEGIN:VTIMEZONE
TZID:Etc/GMT-1
BEGIN:STANDARD
DTSTART:20010101T000000
TZOFFSETFROM:+0100
TZOFFSETTO:+0100
TZNAME:GMT +01:00
END:STANDARD
END:VTIMEZONE
BEGIN:VEVENT
UID:20260425T053319CEST-4729x6lhvT@horsealert.local
DTSTAMP:20260425T030419Z
CATEGORIES:Horse Alerts
DESCRIPTION:Star Sports Festival Preview Evening Novices\' Limited Handicap
  Chase
DTSTART:20140221T162000
LOCATION:England
SUMMARY:Horse Racing:Star Sports Festival Preview Evening Novices\' Limited
  Handicap Chase
END:VEVENT
END:VCALENDAR
