BEGIN:VCALENDAR
VERSION:2.0
PRODID:-//horsealert.local//NONSGML kigkonsult.se iCalcreator 2.10.5//
CALSCALE:GREGORIAN
X-WR-TIMEZONE:Europe/Dublin
BEGIN:VTIMEZONE
TZID:Etc/GMT-1
BEGIN:STANDARD
DTSTART:20010101T000000
TZOFFSETFROM:+0100
TZOFFSETTO:+0100
TZNAME:GMT +01:00
END:STANDARD
END:VTIMEZONE
BEGIN:VEVENT
UID:20260424T211846CEST-5212p7PWjN@horsealert.local
DTSTAMP:20260424T190446Z
CATEGORIES:Horse Alerts
DESCRIPTION:Compare Bookmakers At bookmakers.co.uk Conditional Jockeys\' Ha
 ndicap Hurdle
DTSTART:20140220T140000
LOCATION:England
SUMMARY:Horse Racing:Compare Bookmakers At bookmakers.co.uk Conditional Joc
 keys\' Handicap Hurdle
END:VEVENT
END:VCALENDAR
