BEGIN:VCALENDAR
VERSION:2.0
PRODID:-//horsealert.local//NONSGML kigkonsult.se iCalcreator 2.10.5//
CALSCALE:GREGORIAN
X-WR-TIMEZONE:Europe/Dublin
BEGIN:VTIMEZONE
TZID:Etc/GMT-1
BEGIN:STANDARD
DTSTART:20010101T000000
TZOFFSETFROM:+0100
TZOFFSETTO:+0100
TZNAME:GMT +01:00
END:STANDARD
END:VTIMEZONE
BEGIN:VEVENT
UID:20260424T225547CEST-5771aS1b6f@horsealert.local
DTSTAMP:20260424T200447Z
CATEGORIES:Horse Alerts
DESCRIPTION:Kerr & Smith Glasgow Iveco Standard NH Flat Race \(Conditional 
 Jockeys And Amateur Riders\)
DTSTART:20140220T172000
LOCATION:Scotland
SUMMARY:Horse Racing:Kerr & Smith Glasgow Iveco Standard NH Flat Race \(Con
 ditional Jockeys And Amateur Riders\)
END:VEVENT
END:VCALENDAR
