BEGIN:VCALENDAR
VERSION:2.0
PRODID:-//horsealert.local//NONSGML kigkonsult.se iCalcreator 2.10.5//
CALSCALE:GREGORIAN
X-WR-TIMEZONE:Europe/Dublin
BEGIN:VTIMEZONE
TZID:Etc/GMT-1
BEGIN:STANDARD
DTSTART:20010101T000000
TZOFFSETFROM:+0100
TZOFFSETTO:+0100
TZNAME:GMT +01:00
END:STANDARD
END:VTIMEZONE
BEGIN:VEVENT
UID:20260424T225511CEST-6405CTOARj@horsealert.local
DTSTAMP:20260424T200411Z
CATEGORIES:Horse Alerts
DESCRIPTION:Kempton Park Chase Day 22.02.14 \'Jumpers\' Bumper\' NH Flat Ra
 ce \(Div 1\)
DTSTART:20140216T153500
LOCATION:England
SUMMARY:Horse Racing:Kempton Park Chase Day 22.02.14 \'Jumpers\' Bumper\' N
 H Flat Race \(Div 1\)
END:VEVENT
END:VCALENDAR
