BEGIN:VCALENDAR
VERSION:2.0
PRODID:-//horsealert.local//NONSGML kigkonsult.se iCalcreator 2.10.5//
CALSCALE:GREGORIAN
X-WR-TIMEZONE:Europe/Dublin
BEGIN:VTIMEZONE
TZID:Etc/GMT-1
BEGIN:STANDARD
DTSTART:20010101T000000
TZOFFSETFROM:+0100
TZOFFSETTO:+0100
TZNAME:GMT +01:00
END:STANDARD
END:VTIMEZONE
BEGIN:VEVENT
UID:20260424T225541CEST-7437uMJEvE@horsealert.local
DTSTAMP:20260424T200441Z
CATEGORIES:Horse Alerts
DESCRIPTION:RSA Trial Novices\' Chase \(Registered As The Reynoldstown Novi
 ces\' Chase\) \(Grade 2\) \(8k Field Size Bonus Race\)
DTSTART:20140215T140500
LOCATION:England
SUMMARY:Horse Racing:RSA Trial Novices\' Chase \(Registered As The Reynolds
 town Novices\' Chase\) \(Grade 2\) \(8k Field Size Bonus Race\)
END:VEVENT
END:VCALENDAR
