BEGIN:VCALENDAR
VERSION:2.0
PRODID:-//horsealert.local//NONSGML kigkonsult.se iCalcreator 2.10.5//
CALSCALE:GREGORIAN
X-WR-TIMEZONE:Europe/Dublin
BEGIN:VTIMEZONE
TZID:Etc/GMT-1
BEGIN:STANDARD
DTSTART:20010101T000000
TZOFFSETFROM:+0100
TZOFFSETTO:+0100
TZNAME:GMT +01:00
END:STANDARD
END:VTIMEZONE
BEGIN:VEVENT
UID:20260424T211753CEST-7353o2dgzD@horsealert.local
DTSTAMP:20260424T190453Z
CATEGORIES:Horse Alerts
DESCRIPTION:William Bulwer-Long Memorial Novices\' Fox Hunters\' Chase
DTSTART:20140214T155500
LOCATION:England
SUMMARY:Horse Racing:William Bulwer-Long Memorial Novices\' Fox Hunters\' C
 hase
END:VEVENT
END:VCALENDAR
