BEGIN:VCALENDAR
VERSION:2.0
PRODID:-//horsealert.local//NONSGML kigkonsult.se iCalcreator 2.10.5//
CALSCALE:GREGORIAN
X-WR-TIMEZONE:Europe/Dublin
BEGIN:VTIMEZONE
TZID:Etc/GMT-1
BEGIN:STANDARD
DTSTART:20010101T000000
TZOFFSETFROM:+0100
TZOFFSETTO:+0100
TZNAME:GMT +01:00
END:STANDARD
END:VTIMEZONE
BEGIN:VEVENT
UID:20260424T211707CEST-1636sSuhje@horsealert.local
DTSTAMP:20260424T190407Z
CATEGORIES:Horse Alerts
DESCRIPTION:Chinese New Year Celebrations At Dundalk Stadium Apprentice Han
 dicap
DTSTART:20140214T204500
LOCATION:Eire
SUMMARY:Horse Racing:Chinese New Year Celebrations At Dundalk Stadium Appre
 ntice Handicap
END:VEVENT
END:VCALENDAR
