BEGIN:VCALENDAR
VERSION:2.0
PRODID:-//horsealert.local//NONSGML kigkonsult.se iCalcreator 2.10.5//
CALSCALE:GREGORIAN
X-WR-TIMEZONE:Europe/Dublin
BEGIN:VTIMEZONE
TZID:Etc/GMT-1
BEGIN:STANDARD
DTSTART:20010101T000000
TZOFFSETFROM:+0100
TZOFFSETTO:+0100
TZNAME:GMT +01:00
END:STANDARD
END:VTIMEZONE
BEGIN:VEVENT
UID:20260424T193948CEST-46038UdZ1P@horsealert.local
DTSTAMP:20260424T170448Z
CATEGORIES:Horse Alerts
DESCRIPTION:Romancing\, Dining & Racing At Dundalk Stadium Handicap
DTSTART:20140214T194500
LOCATION:Eire
SUMMARY:Horse Racing:Romancing\, Dining & Racing At Dundalk Stadium Handica
 p
END:VEVENT
END:VCALENDAR
