BEGIN:VCALENDAR
VERSION:2.0
PRODID:-//horsealert.local//NONSGML kigkonsult.se iCalcreator 2.10.5//
CALSCALE:GREGORIAN
X-WR-TIMEZONE:Europe/Dublin
BEGIN:VTIMEZONE
TZID:Etc/GMT-1
BEGIN:STANDARD
DTSTART:20010101T000000
TZOFFSETFROM:+0100
TZOFFSETTO:+0100
TZNAME:GMT +01:00
END:STANDARD
END:VTIMEZONE
BEGIN:VEVENT
UID:20260424T225720CEST-0487Ps0r3P@horsealert.local
DTSTAMP:20260424T200420Z
CATEGORIES:Horse Alerts
DESCRIPTION:Amateur Jockeys\' Association Amateur Riders\' Handicap Chase
DTSTART:20140213T145500
LOCATION:Scotland
SUMMARY:Horse Racing:Amateur Jockeys\' Association Amateur Riders\' Handica
 p Chase
END:VEVENT
END:VCALENDAR
