BEGIN:VCALENDAR
VERSION:2.0
PRODID:-//horsealert.local//NONSGML kigkonsult.se iCalcreator 2.10.5//
CALSCALE:GREGORIAN
X-WR-TIMEZONE:Europe/Dublin
BEGIN:VTIMEZONE
TZID:Etc/GMT-1
BEGIN:STANDARD
DTSTART:20010101T000000
TZOFFSETFROM:+0100
TZOFFSETTO:+0100
TZNAME:GMT +01:00
END:STANDARD
END:VTIMEZONE
BEGIN:VEVENT
UID:20260424T211844CEST-6149oDaH5E@horsealert.local
DTSTAMP:20260424T190444Z
CATEGORIES:Horse Alerts
DESCRIPTION:32Red Play Thunderstruck With 10 Free Handicap
DTSTART:20140210T170000
LOCATION:England
SUMMARY:Horse Racing:32Red Play Thunderstruck With 10 Free Handicap
END:VEVENT
END:VCALENDAR
