BEGIN:VCALENDAR
VERSION:2.0
PRODID:-//horsealert.local//NONSGML kigkonsult.se iCalcreator 2.10.5//
CALSCALE:GREGORIAN
X-WR-TIMEZONE:Europe/Dublin
BEGIN:VTIMEZONE
TZID:Etc/GMT-1
BEGIN:STANDARD
DTSTART:20010101T000000
TZOFFSETFROM:+0100
TZOFFSETTO:+0100
TZNAME:GMT +01:00
END:STANDARD
END:VTIMEZONE
BEGIN:VEVENT
UID:20260424T193958CEST-3794znXB0A@horsealert.local
DTSTAMP:20260424T170458Z
CATEGORIES:Horse Alerts
DESCRIPTION:Champions Restaurant At Dundalk Stadium Maiden
DTSTART:20140207T184500
LOCATION:Eire
SUMMARY:Horse Racing:Champions Restaurant At Dundalk Stadium Maiden
END:VEVENT
END:VCALENDAR
