BEGIN:VCALENDAR
VERSION:2.0
PRODID:-//horsealert.local//NONSGML kigkonsult.se iCalcreator 2.10.5//
CALSCALE:GREGORIAN
X-WR-TIMEZONE:Europe/Dublin
BEGIN:VTIMEZONE
TZID:Etc/GMT-1
BEGIN:STANDARD
DTSTART:20010101T000000
TZOFFSETFROM:+0100
TZOFFSETTO:+0100
TZNAME:GMT +01:00
END:STANDARD
END:VTIMEZONE
BEGIN:VEVENT
UID:20260424T194422CEST-4148sMbWvR@horsealert.local
DTSTAMP:20260424T170422Z
CATEGORIES:Horse Alerts
DESCRIPTION:Michael Lumsden Memorial Mares\' Handicap Hurdle \(For The Henl
 ey Hall Gold Cup\)
DTSTART:20140205T151500
LOCATION:England
SUMMARY:Horse Racing:Michael Lumsden Memorial Mares\' Handicap Hurdle \(For
  The Henley Hall Gold Cup\)
END:VEVENT
END:VCALENDAR
