BEGIN:VCALENDAR
VERSION:2.0
PRODID:-//horsealert.local//NONSGML kigkonsult.se iCalcreator 2.10.5//
CALSCALE:GREGORIAN
X-WR-TIMEZONE:Europe/Dublin
BEGIN:VTIMEZONE
TZID:Etc/GMT-1
BEGIN:STANDARD
DTSTART:20010101T000000
TZOFFSETFROM:+0100
TZOFFSETTO:+0100
TZNAME:GMT +01:00
END:STANDARD
END:VTIMEZONE
BEGIN:VEVENT
UID:20260424T225639CEST-7091c0LzFJ@horsealert.local
DTSTAMP:20260424T200439Z
CATEGORIES:Horse Alerts
DESCRIPTION:BetVictor NonRunner No Bet Cheltenham 2014 Maiden Fillies\' Sta
 kes
DTSTART:20140203T153000
LOCATION:England
SUMMARY:Horse Racing:BetVictor NonRunner No Bet Cheltenham 2014 Maiden Fill
 ies\' Stakes
END:VEVENT
END:VCALENDAR
