BEGIN:VCALENDAR
VERSION:2.0
PRODID:-//horsealert.local//NONSGML kigkonsult.se iCalcreator 2.10.5//
CALSCALE:GREGORIAN
X-WR-TIMEZONE:Europe/Dublin
BEGIN:VTIMEZONE
TZID:Etc/GMT-1
BEGIN:STANDARD
DTSTART:20010101T000000
TZOFFSETFROM:+0100
TZOFFSETTO:+0100
TZNAME:GMT +01:00
END:STANDARD
END:VTIMEZONE
BEGIN:VEVENT
UID:20260425T053205CEST-36743ixO0b@horsealert.local
DTSTAMP:20260425T030405Z
CATEGORIES:Horse Alerts
DESCRIPTION:Book On-Line At fairyhouse.ie For Special Offers Maiden Hurdle
DTSTART:20140201T132500
LOCATION:Eire
SUMMARY:Horse Racing:Book On-Line At fairyhouse.ie For Special Offers Maide
 n Hurdle
END:VEVENT
END:VCALENDAR
