BEGIN:VCALENDAR
VERSION:2.0
PRODID:-//horsealert.local//NONSGML kigkonsult.se iCalcreator 2.10.5//
CALSCALE:GREGORIAN
X-WR-TIMEZONE:Europe/Dublin
BEGIN:VTIMEZONE
TZID:Etc/GMT-1
BEGIN:STANDARD
DTSTART:20010101T000000
TZOFFSETFROM:+0100
TZOFFSETTO:+0100
TZNAME:GMT +01:00
END:STANDARD
END:VTIMEZONE
BEGIN:VEVENT
UID:20260424T225150CEST-1774UP66VO@horsealert.local
DTSTAMP:20260424T200450Z
CATEGORIES:Horse Alerts
DESCRIPTION:bookmakers.co.uk Sprint Series Round 5 Handicap \(Qualifier\) \
 (Div 1\)
DTSTART:20140201T134500
LOCATION:England
SUMMARY:Horse Racing:bookmakers.co.uk Sprint Series Round 5 Handicap \(Qual
 ifier\) \(Div 1\)
END:VEVENT
END:VCALENDAR
