BEGIN:VCALENDAR
VERSION:2.0
PRODID:-//horsealert.local//NONSGML kigkonsult.se iCalcreator 2.10.5//
CALSCALE:GREGORIAN
X-WR-TIMEZONE:Europe/Dublin
BEGIN:VTIMEZONE
TZID:Etc/GMT-1
BEGIN:STANDARD
DTSTART:20010101T000000
TZOFFSETFROM:+0100
TZOFFSETTO:+0100
TZNAME:GMT +01:00
END:STANDARD
END:VTIMEZONE
BEGIN:VEVENT
UID:20260424T210225CEST-40746VGHZ5@horsealert.local
DTSTAMP:20260424T190425Z
CATEGORIES:Horse Alerts
DESCRIPTION:Mix Business With Pleasure At Kempton \'Jumpers\' Bumper\' NH F
 lat Race \(Div 1\)
DTSTART:20140131T145500
LOCATION:England
SUMMARY:Horse Racing:Mix Business With Pleasure At Kempton \'Jumpers\' Bump
 er\' NH Flat Race \(Div 1\)
END:VEVENT
END:VCALENDAR
