BEGIN:VCALENDAR
VERSION:2.0
PRODID:-//horsealert.local//NONSGML kigkonsult.se iCalcreator 2.10.5//
CALSCALE:GREGORIAN
X-WR-TIMEZONE:Europe/Dublin
BEGIN:VTIMEZONE
TZID:Etc/GMT-1
BEGIN:STANDARD
DTSTART:20010101T000000
TZOFFSETFROM:+0100
TZOFFSETTO:+0100
TZNAME:GMT +01:00
END:STANDARD
END:VTIMEZONE
BEGIN:VEVENT
UID:20260424T210140CEST-0989V4hzjf@horsealert.local
DTSTAMP:20260424T190440Z
CATEGORIES:Horse Alerts
DESCRIPTION:Compare Bookmakers At bookmakers.co.uk Sprint Series Round 4 Ha
 ndicap \(Qualifier\) \(Div 2\)
DTSTART:20140125T132500
LOCATION:England
SUMMARY:Horse Racing:Compare Bookmakers At bookmakers.co.uk Sprint Series R
 ound 4 Handicap \(Qualifier\) \(Div 2\)
END:VEVENT
END:VCALENDAR
