BEGIN:VCALENDAR
VERSION:2.0
PRODID:-//horsealert.local//NONSGML kigkonsult.se iCalcreator 2.10.5//
CALSCALE:GREGORIAN
X-WR-TIMEZONE:Europe/Dublin
BEGIN:VTIMEZONE
TZID:Etc/GMT-1
BEGIN:STANDARD
DTSTART:20010101T000000
TZOFFSETFROM:+0100
TZOFFSETTO:+0100
TZNAME:GMT +01:00
END:STANDARD
END:VTIMEZONE
BEGIN:VEVENT
UID:20260424T210117CEST-2785ollUdE@horsealert.local
DTSTAMP:20260424T190417Z
CATEGORIES:Horse Alerts
DESCRIPTION:John Malone Godfather Of Mortgages Retirement Handicap Hurdle
DTSTART:20140123T145000
LOCATION:England
SUMMARY:Horse Racing:John Malone Godfather Of Mortgages Retirement Handicap
  Hurdle
END:VEVENT
END:VCALENDAR
