BEGIN:VCALENDAR
VERSION:2.0
PRODID:-//horsealert.local//NONSGML kigkonsult.se iCalcreator 2.10.5//
CALSCALE:GREGORIAN
X-WR-TIMEZONE:Europe/Dublin
BEGIN:VTIMEZONE
TZID:Etc/GMT-1
BEGIN:STANDARD
DTSTART:20010101T000000
TZOFFSETFROM:+0100
TZOFFSETTO:+0100
TZNAME:GMT +01:00
END:STANDARD
END:VTIMEZONE
BEGIN:VEVENT
UID:20260425T035254CEST-7125klSu8p@horsealert.local
DTSTAMP:20260425T010454Z
CATEGORIES:Horse Alerts
DESCRIPTION:75 Arkle Package On Easter Monday Novice Handicap Hurdle \(80-1
 09\)
DTSTART:20140122T143500
LOCATION:Eire
SUMMARY:Horse Racing:75 Arkle Package On Easter Monday Novice Handicap Hurd
 le \(80-109\)
END:VEVENT
END:VCALENDAR
